BEGIN:VCALENDAR
VERSION:2.0
PRODID:-//CEIP San José de Calasanz - ECPv6.15.20//NONSGML v1.0//EN
CALSCALE:GREGORIAN
METHOD:PUBLISH
X-WR-CALNAME:CEIP San José de Calasanz
X-ORIGINAL-URL:https://ceipsjc.es
X-WR-CALDESC:Eventos para CEIP San José de Calasanz
REFRESH-INTERVAL;VALUE=DURATION:PT1H
X-Robots-Tag:noindex
X-PUBLISHED-TTL:PT1H
BEGIN:VTIMEZONE
TZID:Europe/Madrid
BEGIN:DAYLIGHT
TZOFFSETFROM:+0100
TZOFFSETTO:+0200
TZNAME:CEST
DTSTART:20230326T010000
END:DAYLIGHT
BEGIN:STANDARD
TZOFFSETFROM:+0200
TZOFFSETTO:+0100
TZNAME:CET
DTSTART:20231029T010000
END:STANDARD
BEGIN:DAYLIGHT
TZOFFSETFROM:+0100
TZOFFSETTO:+0200
TZNAME:CEST
DTSTART:20240331T010000
END:DAYLIGHT
BEGIN:STANDARD
TZOFFSETFROM:+0200
TZOFFSETTO:+0100
TZNAME:CET
DTSTART:20241027T010000
END:STANDARD
BEGIN:DAYLIGHT
TZOFFSETFROM:+0100
TZOFFSETTO:+0200
TZNAME:CEST
DTSTART:20250330T010000
END:DAYLIGHT
BEGIN:STANDARD
TZOFFSETFROM:+0200
TZOFFSETTO:+0100
TZNAME:CET
DTSTART:20251026T010000
END:STANDARD
END:VTIMEZONE
BEGIN:VEVENT
DTSTART;VALUE=DATE:20240320
DTEND;VALUE=DATE:20240321
DTSTAMP:20260423T050253
CREATED:20240308T123006Z
LAST-MODIFIED:20240308T123006Z
UID:1515-1710892800-1710979199@ceipsjc.es
SUMMARY:XIII MARATÓN DE CUENTOS
DESCRIPTION:Este año\, de manera muy especial se lo dedicamos a Javi Hernández.
URL:https://ceipsjc.es/evento/xiii-maraton-de-cuentos/
CATEGORIES:centro
ATTACH;FMTTYPE=image/jpeg:https://ceipsjc.es/wp-content/uploads/2024/03/estandarte-maraton-Naxos.jpg
END:VEVENT
END:VCALENDAR